BEGIN:VCALENDAR
VERSION:2.0
PRODID:-//Inclusion Cayman - ECPv6.15.20//NONSGML v1.0//EN
CALSCALE:GREGORIAN
METHOD:PUBLISH
X-ORIGINAL-URL:https://inclusioncayman.ky
X-WR-CALDESC:Events for Inclusion Cayman
REFRESH-INTERVAL;VALUE=DURATION:PT1H
X-Robots-Tag:noindex
X-PUBLISHED-TTL:PT1H
BEGIN:VTIMEZONE
TZID:America/Cayman
BEGIN:STANDARD
TZOFFSETFROM:-0500
TZOFFSETTO:-0500
TZNAME:EST
DTSTART:20230101T000000
END:STANDARD
END:VTIMEZONE
BEGIN:VTIMEZONE
TZID:Europe/London
BEGIN:DAYLIGHT
TZOFFSETFROM:+0000
TZOFFSETTO:+0100
TZNAME:BST
DTSTART:20230326T010000
END:DAYLIGHT
BEGIN:STANDARD
TZOFFSETFROM:+0100
TZOFFSETTO:+0000
TZNAME:GMT
DTSTART:20231029T010000
END:STANDARD
BEGIN:DAYLIGHT
TZOFFSETFROM:+0000
TZOFFSETTO:+0100
TZNAME:BST
DTSTART:20240331T010000
END:DAYLIGHT
BEGIN:STANDARD
TZOFFSETFROM:+0100
TZOFFSETTO:+0000
TZNAME:GMT
DTSTART:20241027T010000
END:STANDARD
BEGIN:DAYLIGHT
TZOFFSETFROM:+0000
TZOFFSETTO:+0100
TZNAME:BST
DTSTART:20250330T010000
END:DAYLIGHT
BEGIN:STANDARD
TZOFFSETFROM:+0100
TZOFFSETTO:+0000
TZNAME:GMT
DTSTART:20251026T010000
END:STANDARD
END:VTIMEZONE
BEGIN:VEVENT
DTSTART;TZID=America/Cayman:20251008T170000
DTEND;TZID=America/Cayman:20251126T180000
DTSTAMP:20260423T093252
CREATED:20250930T170804Z
LAST-MODIFIED:20251003T173655Z
UID:1526-1759942800-1764180000@inclusioncayman.ky
SUMMARY:6 Week ASL Workshop
DESCRIPTION:✨ Free ASL Six-Week Workshop ✨Join us once a week at the Historic Library to learn the basics of American Sign Language (ASL). Sessions run on October 8\, 22\, 29\, November 5\, 19\, and 26 from 5:00–6:00 PM. \nWhether you’ve always wanted to learn a new language or you’re looking to become a more inclusive champion in our community\, this workshop is the perfect place to start. \n🔹 Limited seating—reserve your spot today!👉 Register today by RSVPing and filling out the survey \nIn partnership with HSA and Inclusion Cayman.
URL:https://inclusioncayman.ky/event/6-week-asl-workshop
LOCATION:George Town Library\, 68 Edward St\, George Town\, Cayman Islands\, George Town\, Cayman Islands
ATTACH;FMTTYPE=image/png:https://inclusioncayman.ky/wp-content/uploads/2025/09/ASL-Workshop-1.png
END:VEVENT
BEGIN:VEVENT
DTSTART;TZID=America/Cayman:20250903T173000
DTEND;TZID=America/Cayman:20250903T193000
DTSTAMP:20260423T093252
CREATED:20250828T161801Z
LAST-MODIFIED:20250828T162050Z
UID:1489-1756920600-1756927800@inclusioncayman.ky
SUMMARY:AAC information session and workshop\, By Inclusion Cayman and Lighthouse School.
DESCRIPTION:Communication for All\,\nDiscover how Augmentative and Alternative Communication devices\, also known as AAC Devices can transform lives by providing a voice to those who need it most. \nJoin Us on the\n3rd of September 2025\n5:30 PM – 7:30 PM at the\nIntergenerational Hub in the Creative\nSpace on the 1 floor\, st\nto Learn More!
URL:https://inclusioncayman.ky/event/aac-information-session-and-workshop-by-inclusion-cayman-and-lighthouse-school
LOCATION:the Intergenerational Hub\, 131 MacLendon Drive\, Grand Cayman\, Cayman Islands\, Cayman Islands
ATTACH;FMTTYPE=image/jpeg:https://inclusioncayman.ky/wp-content/uploads/2025/06/Copy-of-AAC-Workshop-Flyer.jpg
END:VEVENT
BEGIN:VEVENT
DTSTART;TZID=America/Cayman:20250527T073000
DTEND;TZID=America/Cayman:20250527T083000
DTSTAMP:20260423T093252
CREATED:20250603T211229Z
LAST-MODIFIED:20250627T134804Z
UID:1453-1748331000-1748334600@inclusioncayman.ky
SUMMARY:Annual Breakfast 2025
DESCRIPTION:Thank you to our sponsors: \n                                             \n 
URL:https://inclusioncayman.ky/event/annual-breakfast-2025
LOCATION:The Ritz Carlton Grand Cayman\, Seven Mile Beach\, George Town\, Grand Cayman\, KY1-1209\, Cayman Islands
ATTACH;FMTTYPE=image/jpeg:https://inclusioncayman.ky/wp-content/uploads/2025/05/Portfolio-37247-1.jpg
END:VEVENT
BEGIN:VEVENT
DTSTART;TZID=America/Cayman:20250108T170000
DTEND;TZID=America/Cayman:20250212T180000
DTSTAMP:20260423T093252
CREATED:20241219T182746Z
LAST-MODIFIED:20250106T152717Z
UID:840-1736355600-1739383200@inclusioncayman.ky
SUMMARY:ASL 6 Week Workshop (American Sign Language)
DESCRIPTION:  \n 
URL:https://inclusioncayman.ky/event/asl-6-week-workshop
LOCATION:George Town Library\, 68 Edward St\, George Town\, Cayman Islands\, George Town\, Cayman Islands
END:VEVENT
BEGIN:VEVENT
DTSTART;TZID=America/Cayman:20240911T173000
DTEND;TZID=America/Cayman:20240911T183000
DTSTAMP:20260423T093252
CREATED:20240830T200618Z
LAST-MODIFIED:20240830T222834Z
UID:663-1726075800-1726079400@inclusioncayman.ky
SUMMARY:Picky Eating Workshop
DESCRIPTION:https://inclusioncayman.ky/wp-content/uploads/2024/08/Picky-Eating-Sept-2024.mp4
URL:https://inclusioncayman.ky/event/picky-eating-workshop
LOCATION:Inclusion Cayman\, Bay Town House\, Grand Cayman\, Cayman Islands\, KY1 1010\, Cayman Islands
ATTACH;FMTTYPE=image/webp:https://inclusioncayman.ky/wp-content/uploads/2024/08/Picky-Eating-Sept-2024.webp
END:VEVENT
BEGIN:VEVENT
DTSTART;VALUE=DATE:20240528
DTEND;VALUE=DATE:20240529
DTSTAMP:20260423T093252
CREATED:20240613T212737Z
LAST-MODIFIED:20240620T184016Z
UID:476-1716854400-1716940799@inclusioncayman.ky
SUMMARY:Annual Breakfast 2024
DESCRIPTION:Thank you to our sponsors:\n  \n\n\nPhotos Courtesy of:
URL:https://inclusioncayman.ky/event/annual-breakfast-2024
LOCATION:The Ritz Carlton Grand Cayman\, Seven Mile Beach\, George Town\, Grand Cayman\, KY1-1209\, Cayman Islands
ATTACH;FMTTYPE=image/jpeg:https://inclusioncayman.ky/wp-content/uploads/2024/06/Inclusion-Cayman-Breakfast-2024-020.jpg
END:VEVENT
END:VCALENDAR